BEGIN:VCALENDAR
VERSION:2.0
PRODID:-//Visit Muskogee - ECPv6.10.2//NONSGML v1.0//EN
CALSCALE:GREGORIAN
METHOD:PUBLISH
X-WR-CALNAME:Visit Muskogee
X-ORIGINAL-URL:https://visitmuskogee.com
X-WR-CALDESC:Events for Visit Muskogee
REFRESH-INTERVAL;VALUE=DURATION:PT1H
X-Robots-Tag:noindex
X-PUBLISHED-TTL:PT1H
BEGIN:VTIMEZONE
TZID:America/Chicago
BEGIN:DAYLIGHT
TZOFFSETFROM:-0600
TZOFFSETTO:-0500
TZNAME:CDT
DTSTART:20260308T080000
END:DAYLIGHT
BEGIN:STANDARD
TZOFFSETFROM:-0500
TZOFFSETTO:-0600
TZNAME:CST
DTSTART:20261101T070000
END:STANDARD
END:VTIMEZONE
BEGIN:VTIMEZONE
TZID:Asia/Tokyo
BEGIN:STANDARD
TZOFFSETFROM:+0900
TZOFFSETTO:+0900
TZNAME:JST
DTSTART:20260101T000000
END:STANDARD
END:VTIMEZONE
BEGIN:VEVENT
DTSTART;TZID=America/Chicago:20260425T100000
DTEND;TZID=America/Chicago:20260425T160000
DTSTAMP:20260422T141253
CREATED:20260318T142536Z
LAST-MODIFIED:20260318T143312Z
UID:10004274-1777111200-1777132800@visitmuskogee.com
SUMMARY:Butterflies and Blooms
DESCRIPTION:The day will be filled with butterflies and blooms. The shop will be transformed into a butterfly wonderland with tons of butterfly decor and merchandise.\nSpecial Artist\, Hunter Olson will be joining us with his original collection of whimsical and butterfly artwork. Hunter was born and raised in Muskogee and now lives in Tulsa where he has been an active tattoo artist at Anchor and Rose for more than 8 years where he specializes in traditional style.\nPlowman’s Plants will also be joining us with a great selection of locally grown plants. Guy and Beverly have been growing plants for more than 50 years right here in Muskogee. Beverly aka “The Plant Lady” has been participating in the Muskogee Farmers Market for more than 10 years.
URL:https://visitmuskogee.com/event/butterflies-and-blooms/
LOCATION:Ivy and Rose Market\, 105 W Broadway\, Muskogee\, OK\, 74401\, United States
ATTACH;FMTTYPE=image/jpeg:https://visitmuskogee.com/wp-content/uploads/2026/03/PNG-image.jpeg
END:VEVENT
BEGIN:VEVENT
DTSTART;TZID=America/Chicago:20260425T103000
DTEND;TZID=America/Chicago:20260531T180000
DTSTAMP:20260422T141253
CREATED:20260210T172440Z
LAST-MODIFIED:20260211T154651Z
UID:10004248-1777113000-1780250400@visitmuskogee.com
SUMMARY:Oklahoma Renaissance Festival
DESCRIPTION:Enter the Kingdom of Castleton\, a 16th-century Renaissance village where history and legend intertwine. Explore a vibrant marketplace filled with skilled artisans and handcrafted goods\, then gather at the jousting arena to watch armored knights clash in live combat. Throughout the village\, performers bring Castleton to life\, while taverns and food stalls offer classic faire food\, drinks\, and sweet treats. Each spring\, Castleton invites guests to explore another age.
URL:https://visitmuskogee.com/event/oklahoma-renaissance-festival/
LOCATION:Castle of Muskogee\, 3400 W. Fern Mountain Road\, Muskogee\, OK\, 74401\, United States
CATEGORIES:Family,Festivals,Food,Kids,Performing Arts
ATTACH;FMTTYPE=image/jpeg:https://visitmuskogee.com/wp-content/uploads/2026/02/castle.jpg
GEO:35.7852867;-95.4058303
X-APPLE-STRUCTURED-LOCATION;VALUE=URI;X-ADDRESS=Castle of Muskogee 3400 W. Fern Mountain Road Muskogee OK 74401 United States;X-APPLE-RADIUS=500;X-TITLE=3400 W. Fern Mountain Road:geo:-95.4058303,35.7852867
END:VEVENT
BEGIN:VEVENT
DTSTART;TZID=America/Chicago:20260509T180000
DTEND;TZID=America/Chicago:20260509T200000
DTSTAMP:20260422T141253
CREATED:20260420T212159Z
LAST-MODIFIED:20260420T212159Z
UID:10006491-1778349600-1778356800@visitmuskogee.com
SUMMARY:FRE MOVIE: SETA Presents "Wall E"
DESCRIPTION:𝙏𝙝𝙚𝙧𝙚’𝙨 𝙡𝙤𝙩𝙨 𝙤𝙛 𝙬𝙤𝙧𝙡𝙙 𝙤𝙪𝙩 𝙩𝙝𝙚𝙧𝙚.\nJoin us for this classic picture as we return to the Pixar catalog with 𝑊𝐴𝐿𝐿-𝐸!\nYes\, I said classic picture. Being 18 years old\, it qualifies. Now that I’ve shocked you into silence\, look; despite his age\, this adorable robot looks like he was animated yesterday. This film also remains as relevant today as ever it was\, but don’t let that bother you. Grab the whole crew and blast on down to the 𝗥𝗼𝘅𝘆 𝗧𝗵𝗲𝗮𝘁𝗲𝗿 for this Oscar-winning\, family-friendly\, animated movie.\n𝗦𝗘𝗧𝗔 𝗠𝗼𝘃𝗶𝗲 𝗖𝗹𝘂𝗯 presents:Disney/Pixar 𝑊𝐴𝐿𝐿-𝐸Saturday\, May 9Doors open at 6pm\, show starts at 7pm220 W Okmulgee Ave in beautiful Downtown MuskogeeAdmission is freeMerch and concessions available with cash or cardCash donations accepted to benefit SavePoint food pantry\n𝘾𝙤𝙢𝙚 𝙖𝙨 𝙮𝙤𝙪 𝙖𝙧𝙚; 𝙣𝙤𝙩𝙝𝙞𝙣𝙜 𝙗𝙚𝙖𝙩𝙨 𝙛𝙪𝙣!
URL:https://visitmuskogee.com/event/fre-movie-seta-presents-wall-e/
LOCATION:The Roxy Theater\, 220 W Okmulgee\, Muskogee\, OK\, 74401\, United States
CATEGORIES:Movies
ATTACH;FMTTYPE=image/jpeg:https://visitmuskogee.com/wp-content/uploads/2026/04/Untitled-design-3.jpg
ORGANIZER;CN="State of Sequoyah Books & Music":MAILTO:spence@sosequoyah.com
END:VEVENT
BEGIN:VEVENT
DTSTART;TZID=America/Chicago:20260516T080000
DTEND;TZID=America/Chicago:20260516T170000
DTSTAMP:20260422T141253
CREATED:20260225T230846Z
LAST-MODIFIED:20260410T203409Z
UID:10004267-1778918400-1778950800@visitmuskogee.com
SUMMARY:Inaugural Muskogee Pickleball Classic
DESCRIPTION:
URL:https://visitmuskogee.com/event/4th-annual-international-fashion-show/
LOCATION:Spaulding Park\, 711 Spaulding Blvd.\, Muskogee\, 74401
CATEGORIES:Art Show,Family,Festivals,Kids,Performing Arts
ATTACH;FMTTYPE=image/jpeg:https://visitmuskogee.com/wp-content/uploads/2026/02/1000002601.jpg
GEO:35.738785;-95.3651587
X-APPLE-STRUCTURED-LOCATION;VALUE=URI;X-ADDRESS=Spaulding Park 711 Spaulding Blvd. Muskogee 74401;X-APPLE-RADIUS=500;X-TITLE=711 Spaulding Blvd.:geo:-95.3651587,35.738785
END:VEVENT
BEGIN:VEVENT
DTSTART;TZID=Asia/Tokyo:20260520T080000
DTEND;TZID=Asia/Tokyo:20260523T170000
DTSTAMP:20260422T141253
CREATED:20250812T052805Z
LAST-MODIFIED:20250812T052805Z
UID:10004213-1779264000-1779555600@visitmuskogee.com
SUMMARY:SAVE THE DATE: Muskogee Fair - Retro Rewind 2026
DESCRIPTION: IT’S OFFICIAL! Mark your calendars — the Muskogee Fair: Retro Rewind is COMING BACK!\n\n May 20–23\, 2026\n\nFour days of throwback fun\, live music\, delicious food\, rides\, and all the retro vibes you love.\nWhether you’re a returning fan or planning your first trip — this is the year you won’t want to miss!\n\n Stay tuned for more details\, vendor sign-ups\, and surprises (including location) coming soon!
URL:https://visitmuskogee.com/event/save-the-date-muskogee-fair-retro-rewind-2026/
ATTACH;FMTTYPE=image/jpeg:https://visitmuskogee.com/wp-content/uploads/2025/08/Muskogee-Fair-2026.jpg
END:VEVENT
BEGIN:VEVENT
DTSTART;TZID=America/Chicago:20260529T100000
DTEND;TZID=America/Chicago:20260530T220000
DTSTAMP:20260422T141253
CREATED:20260211T161417Z
LAST-MODIFIED:20260211T161417Z
UID:10004263-1780048800-1780178400@visitmuskogee.com
SUMMARY:PowerSportsExpo 2026
DESCRIPTION:Join us for the Powersports Expo (PSE)\, the ultimate gathering for ATV\, UTV\, Side by Side\, and Motorcycle enthusiasts. Featuring live competitions\, gear demos\, food trucks\, live music\, and more.\nDon’t miss the biggest powersports event in the Midwest!
URL:https://visitmuskogee.com/event/powersportsexpo-2026/
LOCATION:Hatbox Event Center\, 630 S 40th St\, Muskogee\, OK\, 74401\, United States
CATEGORIES:Car Show,Expo,Family,Food,Kids,Outdoor Activities,Racing,Transportation
ATTACH;FMTTYPE=image/jpeg:https://visitmuskogee.com/wp-content/uploads/2026/02/PSE-2026.jpg
END:VEVENT
BEGIN:VEVENT
DTSTART;TZID=America/Chicago:20260626T173000
DTEND;TZID=America/Chicago:20260626T210000
DTSTAMP:20260422T141253
CREATED:20260210T174340Z
LAST-MODIFIED:20260210T174340Z
UID:10004262-1782495000-1782507600@visitmuskogee.com
SUMMARY:Bass Reeves History Conference Meet & Greet & Movie Night
DESCRIPTION:Help us kick off the 16th annual BRWHC with a Meet & Greet and Movie Night!Join us for an evening of conversation\, community\, and classic Western storytelling as we come together to celebrate the life and legacy of Bass Reeves. Meet fellow history enthusiasts\, enjoy light social time\, and settle in for an exciting celebration ahead.Wear your favorite western hat or duds (not required).All are welcome to come early\, bring a friend\, and enjoy this special opening event.Doors open at 5:30 pm at the Roxy Theater in Muskogee.
URL:https://visitmuskogee.com/event/bass-reeves-history-conference-meet-greet-movie-night/
LOCATION:The Roxy Theater\, 220 W Okmulgee\, Muskogee\, OK\, 74401\, United States
ATTACH;FMTTYPE=image/jpeg:https://visitmuskogee.com/wp-content/uploads/2026/02/bass-reeves-conf.jpg
ORGANIZER;CN="The Three Rivers Museum":MAILTO:3riversmuseum@gmail.com
END:VEVENT
END:VCALENDAR